BEGIN:VCALENDAR
VERSION:2.0
PRODID:-//NC Council of Churches - ECPv6.15.20//NONSGML v1.0//EN
CALSCALE:GREGORIAN
METHOD:PUBLISH
X-WR-CALNAME:NC Council of Churches
X-ORIGINAL-URL:https://ncchurches.org
X-WR-CALDESC:Events for NC Council of Churches
REFRESH-INTERVAL;VALUE=DURATION:PT1H
X-Robots-Tag:noindex
X-PUBLISHED-TTL:PT1H
BEGIN:VTIMEZONE
TZID:America/New_York
BEGIN:DAYLIGHT
TZOFFSETFROM:-0500
TZOFFSETTO:-0400
TZNAME:EDT
DTSTART:20230312T070000
END:DAYLIGHT
BEGIN:STANDARD
TZOFFSETFROM:-0400
TZOFFSETTO:-0500
TZNAME:EST
DTSTART:20231105T060000
END:STANDARD
BEGIN:DAYLIGHT
TZOFFSETFROM:-0500
TZOFFSETTO:-0400
TZNAME:EDT
DTSTART:20240310T070000
END:DAYLIGHT
BEGIN:STANDARD
TZOFFSETFROM:-0400
TZOFFSETTO:-0500
TZNAME:EST
DTSTART:20241103T060000
END:STANDARD
BEGIN:DAYLIGHT
TZOFFSETFROM:-0500
TZOFFSETTO:-0400
TZNAME:EDT
DTSTART:20250309T070000
END:DAYLIGHT
BEGIN:STANDARD
TZOFFSETFROM:-0400
TZOFFSETTO:-0500
TZNAME:EST
DTSTART:20251102T060000
END:STANDARD
END:VTIMEZONE
BEGIN:VEVENT
DTSTART;TZID=America/New_York:20240709T190000
DTEND;TZID=America/New_York:20240723T200000
DTSTAMP:20260420T110459
CREATED:20240627T130809Z
LAST-MODIFIED:20240627T130923Z
UID:36714-1720551600-1721764800@ncchurches.org
SUMMARY:Preparing for World AIDS Day
DESCRIPTION:Are you looking for a message of hope for this year’s Advent worship? Join us for our summer webinars on Tuesdays\, July 9\, 16\, and 23 at 7:00 PM EST/6:00 PM CST. We will engage in courageous conversations about planning a worship service that offers hope for those living with HIV. This is an opportunity to learn\, share\, and support each other in creating meaningful and hopeful worship experiences. We will cover the following topics: \n\nPlanning discussions for World AIDS Day\, observed on Sunday\, December 1.\nTips and tricks for preaching on World AIDS Day.\nCommunity resources that offer great information and inspiration for faith communities.\nHIV 101\, PrEP medicine\, and HVTN vaccine trials.\n\nClick here to register for one or all of the events.
URL:https://ncchurches.org/event-single/preparing-for-world-aids-day/
ATTACH;FMTTYPE=image/png:https://ncchurches.org/wp-content/uploads/2024/06/WAD2024_3-July-Webinars.png
END:VEVENT
END:VCALENDAR